BEGIN:VCALENDAR
VERSION:2.0
PRODID:-//Corporaci&oacute;n Mi Comuna - ECPv6.15.20//NONSGML v1.0//EN
CALSCALE:GREGORIAN
METHOD:PUBLISH
X-WR-CALNAME:Corporaci&oacute;n Mi Comuna
X-ORIGINAL-URL:https://micomuna.org
X-WR-CALDESC:Eventos para Corporaci&oacute;n Mi Comuna
REFRESH-INTERVAL;VALUE=DURATION:PT1H
X-Robots-Tag:noindex
X-PUBLISHED-TTL:PT1H
BEGIN:VTIMEZONE
TZID:America/Bogota
BEGIN:STANDARD
TZOFFSETFROM:-0500
TZOFFSETTO:-0500
TZNAME:-05
DTSTART:20240101T000000
END:STANDARD
END:VTIMEZONE
BEGIN:VEVENT
DTSTART;TZID=America/Bogota:20250815T183000
DTEND;TZID=America/Bogota:20250815T200000
DTSTAMP:20260422T173104
CREATED:20250808T145425Z
LAST-MODIFIED:20250814T041432Z
UID:1761-1755282600-1755288000@micomuna.org
SUMMARY:Inauguración: Exposición Tierras de la vida
DESCRIPTION:Sobre la obra:\nLas emociones\, la inquietud y el caos existencial están presentes en esta serie de donde el tiempo está suspendido como a la espera de un no saber que ha de pasar. Son pinturas expresionistas realizadas con pigmentos orgánicos que dan forma a los pensamientos y sentimientos de su autor\, que abordan lo agridulce de la vida a través de temas como la angustia\, la depresión\, la ansiedad y el estrés que nos inducen nuestros tiempos. \nRealizadas con pinceladas sueltas\, manchas y chorreones de pintura\, en una paleta de colores tierra\, estas piezas revelan la espontaneidad del gesto del autor\, su libertad en el acto de creación\, su conexión con la naturaleza\, con nuestros\nancestros\, con nuestro primitivismo\, impulso y humanidad. \nA partir de estas «tierras de la vida» pongo en diálogo el espacio\, la naturaleza\, el tiempo para exponer el desasosiego y\, a la vez\, la calma. Cada gesto busca hurgar en la naturaleza\, en la vida humana\, en los hechos existenciales. Mi obra busca darle respuesta a todo aquello que no comprendo y vivo. \nSobre el autor:\nDarío Andrade nació en Medellin; su infancia y adolescencia transcurrieron en el campo\, donde fue influenciado por la soledad y la naturaleza\, y se encontró con la poesia\, la pintura y la literatura. \nDe regreso a la ciudad\, decidió irse a prestar el servicio militar\, donde escribió de manera prolifica:Los perros se esconden para morir\, su primera novela\, publicada en el año 2022. \nAl finalizar su carrera de psicología\, decide estudiar una licenciatura en educación artística y cultural\, la cual alterna con la escritura y la pintura; posee las novelas ineditas: «Escrúpulos de los instantes»\, «El artista de los muertos» y «Las efimeras flores»\, y los poemarios: «Habitante de las antipodase» y «sobrevivir en palabras». \nHa realizado más de cien pinturas con tierras y pigmentos naturales. Aunque nunca estudio a profundidad las formas artisticas en las que se desenvuelve\, como la pintura\, la poesia y la literatura\, las elerce espontaneamente\, como si hubiese nacido para ser un artista que va por ahi\, como el viento\, sin mucho que decir\, ya que sus obras son las que hablan. \nEsta exposción llega a la Casa para el Encuentro Eduardo Galeano por el Sistema de Bibliotecas Públicas de Medellín.
URL:https://micomuna.org/evento/inauguracion-exposicion-tierras-de-la-vida/
LOCATION:Casa para el Encuentro Eduardo Galeano\, Calle 105A 48AA-58\, Medellin\, Antioquia\, 050001\, Colombia
CATEGORIES:Casa
ATTACH;FMTTYPE=image/jpeg:https://micomuna.org/wp-content/uploads/2025/08/Tierras-de-la-vida.jpg
ORGANIZER;CN="Corporaci%C3%B3n Mi Comuna":MAILTO:contacto@micomuna.org
END:VEVENT
BEGIN:VEVENT
DTSTART;TZID=America/Bogota:20250822T190000
DTEND;TZID=America/Bogota:20250822T210000
DTSTAMP:20260422T173104
CREATED:20250814T033056Z
LAST-MODIFIED:20250814T040311Z
UID:1775-1755889200-1755896400@micomuna.org
SUMMARY:Teatro: Enero (versión libre de Angelica Lidell)
DESCRIPTION:Enero es un ejercicio escénico del grupo Gama Teatro que aborda el tema de los feminicidios\, a partir de una adaptación libre de la dramaturgia Enero\, de la autora Angélica Liddell.
URL:https://micomuna.org/evento/teatro-enero-version-libre-de-angelica-lidell/
LOCATION:Casa para el Encuentro Eduardo Galeano\, Calle 105A 48AA-58\, Medellin\, Antioquia\, 050001\, Colombia
CATEGORIES:Casa
ORGANIZER;CN="Corporaci%C3%B3n Mi Comuna":MAILTO:contacto@micomuna.org
END:VEVENT
BEGIN:VEVENT
DTSTART;TZID=America/Bogota:20250829T170000
DTEND;TZID=America/Bogota:20250829T190000
DTSTAMP:20260422T173104
CREATED:20250814T033332Z
LAST-MODIFIED:20250814T033332Z
UID:1781-1756486800-1756494000@micomuna.org
SUMMARY:Juegos y Manualidades: Hagamos Cometas
DESCRIPTION:Aprovechando los vientos de agosto\, tendremos una tarde en la que niños y niñas podrán construir sus propias cometas y volarlas juntos en la terraza de la Casa.
URL:https://micomuna.org/evento/juegos-y-manualidades-hagamos-cometas/
LOCATION:Casa para el Encuentro Eduardo Galeano\, Calle 105A 48AA-58\, Medellin\, Antioquia\, 050001\, Colombia
CATEGORIES:Casa
ORGANIZER;CN="Corporaci%C3%B3n Mi Comuna":MAILTO:contacto@micomuna.org
END:VEVENT
END:VCALENDAR