BEGIN:VCALENDAR
VERSION:2.0
PRODID:-//Corporaci&oacute;n Mi Comuna - ECPv6.15.20//NONSGML v1.0//EN
CALSCALE:GREGORIAN
METHOD:PUBLISH
X-ORIGINAL-URL:https://micomuna.org
X-WR-CALDESC:Eventos para Corporaci&oacute;n Mi Comuna
REFRESH-INTERVAL;VALUE=DURATION:PT1H
X-Robots-Tag:noindex
X-PUBLISHED-TTL:PT1H
BEGIN:VTIMEZONE
TZID:America/Bogota
BEGIN:STANDARD
TZOFFSETFROM:-0500
TZOFFSETTO:-0500
TZNAME:-05
DTSTART:20240101T000000
END:STANDARD
END:VTIMEZONE
BEGIN:VEVENT
DTSTART;TZID=America/Bogota:20250905T200000
DTEND;TZID=America/Bogota:20250905T220000
DTSTAMP:20260422T161448
CREATED:20250902T172011Z
LAST-MODIFIED:20250904T191354Z
UID:1795-1757102400-1757109600@micomuna.org
SUMMARY:Concierto: Tributo a Silvio Rodríguez
DESCRIPTION:Un 3 de septiembre\, Eduardo Galeano\, escritor y periodista\, nació en Montevideo-Uruguay en 1940. Publicó textos como Las venas abiertas de latinoamerica\, el libro de los abrazos\, Patas Arriba: La escuela de un mundo al revés\, entre otros plasmando memorias y filosofias de vida donde la Casa para el Encuentro Eduardo Galeano encontró una sintonía y en 2015 decide nombrarse en homenaje a él. Por ello\, el 5 de septiembre conmemoraremos su natalicio con algunas lecturas de estos textos y la presentación de Tetralogía\, un grupo musical que se dedica a replicar la música de Silvio Rodríguez\, canciones que conversan con estas lecturas y nos movilizan como organización.
URL:https://micomuna.org/evento/concierto-tributo-a-silvio-rodriguez/
LOCATION:Casa para el Encuentro Eduardo Galeano\, Calle 105A 48AA-58\, Medellin\, Antioquia\, 050001\, Colombia
CATEGORIES:Casa
ATTACH;FMTTYPE=image/jpeg:https://micomuna.org/wp-content/uploads/2025/09/Tetralogia-Tributo-a-Silvio-Rodriguez.jpeg
ORGANIZER;CN="Corporaci%C3%B3n Mi Comuna":MAILTO:contacto@micomuna.org
END:VEVENT
BEGIN:VEVENT
DTSTART;TZID=America/Bogota:20250912T190000
DTEND;TZID=America/Bogota:20250912T200000
DTSTAMP:20260422T161448
CREATED:20250902T172326Z
LAST-MODIFIED:20250904T191414Z
UID:1800-1757703600-1757707200@micomuna.org
SUMMARY:Show de magia: Más allá de tus ojos
DESCRIPTION:Más allá de los ojos. La magia ha sido la posibilidad de crear otros mundos\, poner en otra disposición la mente y habitar la imaginación. El mago Javi llevará a las y los espectadores al asombro y la risa con aparición y desaparición de objetos\, ilusionismo y cartomagia. Un espacio familiar para permitirse sorprenderse y disfrutar de un espectáculo\, como lo dice el mago «posibilitando lo increíble».
URL:https://micomuna.org/evento/show-de-magia-mas-alla-de-tus-ojos/
LOCATION:Casa para el Encuentro Eduardo Galeano\, Calle 105A 48AA-58\, Medellin\, Antioquia\, 050001\, Colombia
CATEGORIES:Casa
ATTACH;FMTTYPE=image/jpeg:https://micomuna.org/wp-content/uploads/2025/09/show-de-magia-mas-alla-de-tus-ojos.jpg
ORGANIZER;CN="Corporaci%C3%B3n Mi Comuna":MAILTO:contacto@micomuna.org
END:VEVENT
BEGIN:VEVENT
DTSTART;TZID=America/Bogota:20250926T190000
DTEND;TZID=America/Bogota:20250926T200000
DTSTAMP:20260422T161448
CREATED:20250902T173018Z
LAST-MODIFIED:20250902T173018Z
UID:1802-1758913200-1758916800@micomuna.org
SUMMARY:Teatro: Mi peor enemigo
DESCRIPTION:A Fernando Arcángel el miedo a la vida\, a no ser bello\, a envejecer\, a ser él mismo\, le detuvieron por años la posibilidad de estar en un escenario y lo convencieron de que el teatro era un privilegio al que no podía volver a acceder. Es en la búsqueda de contrarrestar esas cargas que\, dirigido por Soraya Trujillo\, vuelve a la escena y propone “Mi peor enemigo”\, un trabajo teatral que resulta de poner a dialogar esos fantasmas con su fuerza para estar en el presente\, para celebrar la vida y traspasar los controles que le han impuesto el miedo\, la culpa\, la exclusión. Esta obra está dirigida a mayores de 14 años de edad y será la oportunidad para disfrutar del teatro y entablar un diálogo frente a lo que somos como humanos.
URL:https://micomuna.org/evento/teatro-mi-peor-enemigo/
LOCATION:Casa para el Encuentro Eduardo Galeano\, Calle 105A 48AA-58\, Medellin\, Antioquia\, 050001\, Colombia
CATEGORIES:Casa
ORGANIZER;CN="Corporaci%C3%B3n Mi Comuna":MAILTO:contacto@micomuna.org
END:VEVENT
END:VCALENDAR