BEGIN:VCALENDAR
VERSION:2.0
PRODID:-//Corporaci&oacute;n Mi Comuna - ECPv6.15.20//NONSGML v1.0//EN
CALSCALE:GREGORIAN
METHOD:PUBLISH
X-WR-CALNAME:Corporaci&oacute;n Mi Comuna
X-ORIGINAL-URL:https://micomuna.org
X-WR-CALDESC:Eventos para Corporaci&oacute;n Mi Comuna
REFRESH-INTERVAL;VALUE=DURATION:PT1H
X-Robots-Tag:noindex
X-PUBLISHED-TTL:PT1H
BEGIN:VTIMEZONE
TZID:America/Bogota
BEGIN:STANDARD
TZOFFSETFROM:-0500
TZOFFSETTO:-0500
TZNAME:-05
DTSTART:20250101T000000
END:STANDARD
END:VTIMEZONE
BEGIN:VEVENT
DTSTART;TZID=America/Bogota:20260424T190000
DTEND;TZID=America/Bogota:20260424T200000
DTSTAMP:20260422T060031
CREATED:20260421T181521Z
LAST-MODIFIED:20260421T194515Z
UID:2803-1777057200-1777060800@micomuna.org
SUMMARY:Teatro: Brujas
DESCRIPTION:Esta semana tenemos teatro en nuestra agenda cultural.\nTe esperamos para adentrarnos en la mística y el poder femenino que plasma esta obra con el Colectivo Teatral Claro de Luna. \nEntrada libre \n\n\n\n\n\n\n\n\n\n\n\n\nVer esta publicación en Instagram\n\n\n\n\n\n\n\n\n\n\n\n\n\n\n\n\n\n\n\n\n\n\nUna publicación compartida por Casa para el Encuentro Eduardo Galeano (@casaeduardogaleanomedellin)
URL:https://micomuna.org/evento/teatro-brujas/
LOCATION:Casa para el Encuentro Eduardo Galeano\, Calle 105A 48AA-58\, Medellin\, Antioquia\, 050001\, Colombia
CATEGORIES:Casa
ORGANIZER;CN="Corporaci%C3%B3n Mi Comuna":MAILTO:contacto@micomuna.org
END:VEVENT
END:VCALENDAR