BEGIN:VCALENDAR
VERSION:2.0
PRODID:-//Corporaci&oacute;n Mi Comuna - ECPv6.15.20//NONSGML v1.0//EN
CALSCALE:GREGORIAN
METHOD:PUBLISH
X-WR-CALNAME:Corporaci&oacute;n Mi Comuna
X-ORIGINAL-URL:https://micomuna.org
X-WR-CALDESC:Eventos para Corporaci&oacute;n Mi Comuna
REFRESH-INTERVAL;VALUE=DURATION:PT1H
X-Robots-Tag:noindex
X-PUBLISHED-TTL:PT1H
BEGIN:VTIMEZONE
TZID:America/Bogota
BEGIN:STANDARD
TZOFFSETFROM:-0500
TZOFFSETTO:-0500
TZNAME:-05
DTSTART:20240101T000000
END:STANDARD
END:VTIMEZONE
BEGIN:VEVENT
DTSTART;TZID=America/Bogota:20250602T080000
DTEND;TZID=America/Bogota:20250620T233000
DTSTAMP:20260421T090245
CREATED:20250606T001434Z
LAST-MODIFIED:20250616T155953Z
UID:1406-1748851200-1750462200@micomuna.org
SUMMARY:Inscríbete a la Escuela de Comunicación Comunitaria
DESCRIPTION:¿Te gusta la fotografía\, el cine y la comunicación? \nEn la escuela de comunicación comunitaria aprenderemos a contar historias en estos formatos. \nIncripciones aquí  \n \nCargando…
URL:https://micomuna.org/evento/escuela-de-comunicacion-comunitaria/
LOCATION:Casa para el Encuentro Eduardo Galeano\, Calle 105A 48AA-58\, Medellin\, Antioquia\, 050001\, Colombia
ORGANIZER;CN="Corporaci%C3%B3n Mi Comuna":MAILTO:contacto@micomuna.org
END:VEVENT
END:VCALENDAR