BEGIN:VCALENDAR
VERSION:2.0
PRODID:-//Corporaci&oacute;n Mi Comuna - ECPv6.15.20//NONSGML v1.0//EN
CALSCALE:GREGORIAN
METHOD:PUBLISH
X-WR-CALNAME:Corporaci&oacute;n Mi Comuna
X-ORIGINAL-URL:https://micomuna.org
X-WR-CALDESC:Eventos para Corporaci&oacute;n Mi Comuna
REFRESH-INTERVAL;VALUE=DURATION:PT1H
X-Robots-Tag:noindex
X-PUBLISHED-TTL:PT1H
BEGIN:VTIMEZONE
TZID:America/Bogota
BEGIN:STANDARD
TZOFFSETFROM:-0500
TZOFFSETTO:-0500
TZNAME:-05
DTSTART:20240101T000000
END:STANDARD
END:VTIMEZONE
BEGIN:VEVENT
DTSTART;TZID=America/Bogota:20250718T183000
DTEND;TZID=America/Bogota:20250718T200000
DTSTAMP:20260421T042008
CREATED:20250707T165018Z
LAST-MODIFIED:20250814T041026Z
UID:1743-1752863400-1752868800@micomuna.org
SUMMARY:Teatro: Sola en esta nube
DESCRIPTION:Adaptación del cuento “Sola en esta nube” de Oscar Castro García \nSinopsis: En un atravesar del pasado en el presente\, Ana Clara Valderrama del Valle evoca los mejores momentos de su\nsola e infeliz vida\, lo que ella creyó que llegaría nunca llegó a su puerta y el amor de su vida lo esfumó ella misma de la\nfaz de la tierra\, Ana Clara celebra su cumpleaños perpetuo mientras la vida le gira en su amada CASA ESCARLATA. \nDirector: Juan José Tobón Ceballos\nActuación: Juan Pablo Tobón Palacio – Lina Restrepo
URL:https://micomuna.org/evento/teatro-sola-en-esta-nube/
LOCATION:Casa para el Encuentro Eduardo Galeano\, Calle 105A 48AA-58\, Medellin\, Antioquia\, 050001\, Colombia
CATEGORIES:Casa
ATTACH;FMTTYPE=image/jpeg:https://micomuna.org/wp-content/uploads/2025/07/sola-en-esta-nube.jpg
ORGANIZER;CN="Corporaci%C3%B3n Mi Comuna":MAILTO:contacto@micomuna.org
END:VEVENT
END:VCALENDAR