BEGIN:VCALENDAR
VERSION:2.0
PRODID:-//Corporaci&oacute;n Mi Comuna - ECPv6.15.20//NONSGML v1.0//EN
CALSCALE:GREGORIAN
METHOD:PUBLISH
X-WR-CALNAME:Corporaci&oacute;n Mi Comuna
X-ORIGINAL-URL:https://micomuna.org
X-WR-CALDESC:Eventos para Corporaci&oacute;n Mi Comuna
REFRESH-INTERVAL;VALUE=DURATION:PT1H
X-Robots-Tag:noindex
X-PUBLISHED-TTL:PT1H
BEGIN:VTIMEZONE
TZID:America/Bogota
BEGIN:STANDARD
TZOFFSETFROM:-0500
TZOFFSETTO:-0500
TZNAME:-05
DTSTART:20240101T000000
END:STANDARD
END:VTIMEZONE
BEGIN:VEVENT
DTSTART;TZID=America/Bogota:20250620T170000
DTEND;TZID=America/Bogota:20250620T200000
DTSTAMP:20260421T131515
CREATED:20250606T164818Z
LAST-MODIFIED:20250617T142032Z
UID:1494-1750438800-1750449600@micomuna.org
SUMMARY:Taller especial de tejido: Soñemos territorios posibles
DESCRIPTION:Este taller es una invitación a entrelazar hilos\, saberes y memorias. A través de técnicas textiles inspiradas en tradiciones latinoamericanas\, abriremos un espacio de creación colectiva para reflexionar sobre el territorio que habitamos y el que soñamos construir. \nSerá orientado por Mónica Chávez\, antropóloga feminista de la Universidad Nacional Autónoma de México (UNAM)\, Escuela Nacional de Estudios Superiores\, Unidad Morelia\, quien aportará una mirada sensible desde la relación entre arte y territorio. \nTécnica: Paisaje textil\nAcompaña: Mónica Chávez (México)\nPúblico: Jóvenes y adultos
URL:https://micomuna.org/evento/taller-especial-de-tejido-sonemos-territorios-posibles-2/
LOCATION:Casa para el Encuentro Eduardo Galeano\, Calle 105A 48AA-58\, Medellin\, Antioquia\, 050001\, Colombia
CATEGORIES:Casa
ORGANIZER;CN="Corporaci%C3%B3n Mi Comuna":MAILTO:contacto@micomuna.org
END:VEVENT
END:VCALENDAR